BEGIN:VCALENDAR
VERSION:2.0
PRODID:-//eventon.com NONSGML v1.0//EN
CALSCALE:GREGORIAN
METHOD:PUBLISH
BEGIN:VEVENT
UID:69e7353057531
DTSTAMP:20260421T082832Z
DTSTART:20250101
DTEND:20250102
LOCATION:Western Lakes Golf Club W287 N1963 Oakton Rd.
SUMMARY:Now Hiring for Summer 2025!
DESCRIPTION:As we start to look ahead to the 2025 golf season\,  Western La
 kes would like to add some new members to our team. We are currently lookin
 g for motivated individuals who would enjoy working in a fast paced\,  team
 -oriented environment with a beautiful view and competitive benefits. If in
 terested\,  please[..]\nhttps://westernlakes.com/events/now-hiring-for-summ
 er-jobs/
URL:https://westernlakes.com/events/now-hiring-for-summer-jobs/
END:VEVENT
END:VCALENDAR