BEGIN:VCALENDAR
VERSION:2.0
PRODID:-//eventon.com NONSGML v1.0//EN
CALSCALE:GREGORIAN
METHOD:PUBLISH
BEGIN:VEVENT
UID:69eba22d65b91
DTSTAMP:20260424T170237Z
DTSTART:20200711T133000Z
DTEND:20200711T180000Z
LOCATION:Western Lakes Golf Club W287 N1963 Oakton Rd.
SUMMARY:WI Scramble Series
DESCRIPTION:Join Total Consciousness Golf on a 5 course series of fun and s
 ocial tournament events. The Wisconsin Scramble Series is more than just 5 
 great games on great Wisconsin courses\,  it pits you against the field in 
 a season-long points battle for ultimate domination. Play for fun\,  play f
 or prizes\, [..]\nhttps://westernlakes.com/events/wi-scramble-series/
URL:https://westernlakes.com/events/wi-scramble-series/
END:VEVENT
END:VCALENDAR